BEGIN:VCALENDAR
VERSION:2.0
PRODID:-//PV UMCG - ECPv6.15.20//NONSGML v1.0//EN
CALSCALE:GREGORIAN
METHOD:PUBLISH
X-WR-CALNAME:PV UMCG
X-ORIGINAL-URL:https://pvumcg.nl
X-WR-CALDESC:Evenementen voor PV UMCG
REFRESH-INTERVAL;VALUE=DURATION:PT1H
X-Robots-Tag:noindex
X-PUBLISHED-TTL:PT1H
BEGIN:VTIMEZONE
TZID:UTC
BEGIN:STANDARD
TZOFFSETFROM:+0000
TZOFFSETTO:+0000
TZNAME:UTC
DTSTART:20230101T000000
END:STANDARD
END:VTIMEZONE
BEGIN:VEVENT
DTSTART;TZID=UTC:20241129T200000
DTEND;TZID=UTC:20241129T223000
DTSTAMP:20260424T092719
CREATED:20241125T160712Z
LAST-MODIFIED:20250131T124934Z
UID:1353-1732910400-1732919400@pvumcg.nl
SUMMARY:Hans Klok - Face the Future
DESCRIPTION:De legendarische Nederlandse illusionist Hans Klok maakt zijn terugkeer op het podium met een spectaculaire nieuwe show: Face the Future. \n\nHans Klok neemt je mee op een magische reis door de tijd\, geïnspireerd door de nieuwste ontwikkelingen in AI en Virtual Reality. Om nieuwe illusies te creëren\, bouwt hij een digitale avatar. Maar wanneer deze avatar een eigen wil krijgt en zijn wereld begint over te nemen\, moet Hans door de tijd reizen om zijn digitale dubbelganger te stoppen. Face the Future vertelt het spannende verhaal van de strijd tussen mens en technologie\, waarbij ook de persoonlijke kant van Hans Klok zichtbaar wordt.\n\nGeniet van een spectaculaire familieshow zoals de wereld nog nooit heeft gezien!\n\nMartiniplaza\, 29 november 2024 vanaf 20:00 uur\n\nNormale prijs € 68\,70\nLedenprijs: € 34\,35
URL:https://pvumcg.nl/event/hans-klok-face-the-future/
LOCATION:Martiniplaza Groningen\, Leonard Springerlaan 2\, Groningen\, 9727 KB
CATEGORIES:Evenement
ATTACH;FMTTYPE=image/png:https://pvumcg.nl/wp-content/uploads/2024/11/hans-klok-face-the-future-s1920x1080.png
END:VEVENT
END:VCALENDAR