BEGIN:VCALENDAR
VERSION:2.0
PRODID:-//PV UMCG - ECPv6.15.20//NONSGML v1.0//EN
CALSCALE:GREGORIAN
METHOD:PUBLISH
X-WR-CALNAME:PV UMCG
X-ORIGINAL-URL:https://pvumcg.nl
X-WR-CALDESC:Evenementen voor PV UMCG
REFRESH-INTERVAL;VALUE=DURATION:PT1H
X-Robots-Tag:noindex
X-PUBLISHED-TTL:PT1H
BEGIN:VTIMEZONE
TZID:UTC
BEGIN:STANDARD
TZOFFSETFROM:+0000
TZOFFSETTO:+0000
TZNAME:UTC
DTSTART:20240101T000000
END:STANDARD
END:VTIMEZONE
BEGIN:VEVENT
DTSTART;TZID=UTC:20250215T143000
DTEND;TZID=UTC:20250215T180000
DTSTAMP:20260424T093255
CREATED:20241125T161359Z
LAST-MODIFIED:20241125T161603Z
UID:1368-1739629800-1739642400@pvumcg.nl
SUMMARY:NK Schaatsen in Thialf
DESCRIPTION:Op zaterdag 15 februari organiseren we een spectaculair uitje naar het NK Afstanden in Thialf\, dé tempel van het Nederlandse schaatsen! Voor slechts €12\,50 (normaal €25!) beleef je samen met je collega’s de spannende strijd om de nationale titels\, terwijl Nederland’s snelste schaatsers de strijd aangaan op het ijs. \nVoel de adrenaline\, juich jouw favorieten toe\, en geniet van de unieke sfeer die alleen Thialf kan bieden. Of je nu een doorgewinterde schaatsfan bent of zin hebt in een gezellige dag uit – deze ervaring wil je niet missen! \nSchrijf je snel in en zorg dat je erbij bent\, want vol is vol!
URL:https://pvumcg.nl/event/nk-schaatsen-in-thialf/
LOCATION:Thialf\, Pim Mulierlaan 1\, Heerenveen\, 8443 DA
CATEGORIES:Evenement
ATTACH;FMTTYPE=image/jpeg:https://pvumcg.nl/wp-content/uploads/2024/11/Thialf.jpg
END:VEVENT
END:VCALENDAR