BEGIN:VCALENDAR
VERSION:2.0
PRODID:-//PV UMCG - ECPv6.15.20//NONSGML v1.0//EN
CALSCALE:GREGORIAN
METHOD:PUBLISH
X-ORIGINAL-URL:https://pvumcg.nl
X-WR-CALDESC:Evenementen voor PV UMCG
REFRESH-INTERVAL;VALUE=DURATION:PT1H
X-Robots-Tag:noindex
X-PUBLISHED-TTL:PT1H
BEGIN:VTIMEZONE
TZID:UTC
BEGIN:STANDARD
TZOFFSETFROM:+0000
TZOFFSETTO:+0000
TZNAME:UTC
DTSTART:20250101T000000
END:STANDARD
END:VTIMEZONE
BEGIN:VEVENT
DTSTART;TZID=UTC:20261127T143000
DTEND;TZID=UTC:20261127T173000
DTSTAMP:20260424T081913
CREATED:20260107T142751Z
LAST-MODIFIED:20260107T142751Z
UID:1690-1795789800-1795800600@pvumcg.nl
SUMMARY:UMCG Sinterklaasfeest
DESCRIPTION:Op vrijdag 27 november is het zover: de Sint en zijn pieten brengen een feestelijk bezoek aan het UMCG en natuurlijk ontbreekt het cadeautje voor de kinderen niet – na afloop krijgt ieder kind iets leuks mee naar huis. \nEr zijn twee voorstellingen in de Blauwe Zaal: om 14.30 uur en om 16.30 uur. Het feest is bedoeld voor kinderen van 0 tot 7 jaar. \nNadere informatie volgt.
URL:https://pvumcg.nl/event/umcg-sinterklaasfeest/
LOCATION:Blauwe Zaal\, Hanzeplein 1\, Groningen\, 9713 GZ
CATEGORIES:Evenement
END:VEVENT
BEGIN:VEVENT
DTSTART;VALUE=DATE:20261219
DTEND;VALUE=DATE:20261220
DTSTAMP:20260424T081913
CREATED:20260107T143003Z
LAST-MODIFIED:20260107T143003Z
UID:1692-1797638400-1797724799@pvumcg.nl
SUMMARY:Kerstreis
DESCRIPTION:Zin in een dag vol gezelligheid en kerstgevoel? Ga mee met de jaarlijkse kerstreis van de PV UMCG naar het Duitse Bremen!
URL:https://pvumcg.nl/event/kerstreis/
LOCATION:Bremen
CATEGORIES:Evenement
ATTACH;FMTTYPE=image/jpeg:https://pvumcg.nl/wp-content/uploads/2025/10/kerstmarkt-oldenburg.jpg
END:VEVENT
END:VCALENDAR